BEGIN:VCALENDAR
VERSION:2.0
PRODID:-//vakinfo.cz - ECPv6.1.3//NONSGML v1.0//EN
CALSCALE:GREGORIAN
METHOD:PUBLISH
X-WR-CALNAME:vakinfo.cz
X-ORIGINAL-URL:https://www.vakinfo.cz
X-WR-CALDESC:Akce na vakinfo.cz
REFRESH-INTERVAL;VALUE=DURATION:PT1H
X-Robots-Tag:noindex
X-PUBLISHED-TTL:PT1H
BEGIN:VTIMEZONE
TZID:UTC
BEGIN:STANDARD
TZOFFSETFROM:+0000
TZOFFSETTO:+0000
TZNAME:UTC
DTSTART:20250101T000000
END:STANDARD
END:VTIMEZONE
BEGIN:VEVENT
DTSTART;TZID=UTC:20251112T080000
DTEND;TZID=UTC:20251113T170000
DTSTAMP:20260426T023634
CREATED:20250612T121538Z
LAST-MODIFIED:20250612T121752Z
UID:5902-1762934400-1763053200@www.vakinfo.cz
SUMMARY:Provoz vodovodů a kanalizací
DESCRIPTION:23. ročník tradiční dvoudenní konference nabídne nejen prostor k přednáškám a diskuzím nad tématy\, která jsou v popředí zájmu odborné veřejnosti\, ale zejména přinese nejaktuálnější strategické informace z oboru\, bez kterých se žádný TOP manažer ve vodárenství neobejde. Jako vždy se budeme zabývat nejaktuálnějšími informacemi z legislativy. Mimo jiné vám chceme zprostředkovat informace o postupu prací na přípravě Národního prováděcího plánu ke Směrnici o čištění městských odpadních vod\, který se po dokončení a schválení vládou stane pro další roky „jízdním řádem“ v oboru odvádění a čištění komunálních odpadních vod. Nabídneme informace o studii posouzení metod kvarterního čištění odpadních vod použitelných v podmínkách ČR. Konference se bude zabývat i vývojem a využitím vyspělých technologií (stavba v režimu BIM)\, zaměří se dále na představení technicky vyspělé úpravny vody. Řešit se budou výstupy ze zpracování rizikových analýz\, bilancování smartmeteringu\, revize Green Dealu a dotkne se i dopadu loňských povodní na obor\, a to zejména z pohledu ekonomického. Pracujeme také na přípravě kulatého stolu se zástupci regulátorů. V přilehlých prostorách přednáškového sálu bude probíhat doprovodná prezentace dodavatelských firem a těšit se samozřejmě můžete na společenský večer v prostorách Clarion Congress Hotelu Ostrava****.
URL:https://www.vakinfo.cz/event/provoz-vodovodu-a-kanalizaci/
LOCATION:Dolní oblast VÍTKOVICE\, z.s.\, Vítkovice 3004\, Vítkovice Ostrava\, 703 00
CATEGORIES:Konference
ORGANIZER;CN="SOVAK%20z.s.":MAILTO:sovak@sovak.cz
END:VEVENT
BEGIN:VEVENT
DTSTART;TZID=UTC:20251104T080000
DTEND;TZID=UTC:20251104T143000
DTSTAMP:20260426T023634
CREATED:20251024T092300Z
LAST-MODIFIED:20251024T092407Z
UID:6259-1762243200-1762266600@www.vakinfo.cz
SUMMARY:ZDVIHADLA 2025
DESCRIPTION:Bezpečný provoz vyhrazených zdvihacích zařízení\nAktuální stav v oboru\n\n4. listopadu 2025\nHotel Energie\, Praha\nSpecializovaný odborný seminář pro provozovatele\, výrobce\, dovozce\, revizní techniky\, manažery a techniky BOZP a další odborníky v oboru zdvihacích zařízení \nProgram semináře\nOrganizační pokyny\nPřihláška on-line\nDokumenty ke stažení\n  \nHlavní témata semináře:\n  \n\nPrávní předpisy pro zdvihací zařízení\nPovinnosti provozovatelů a revizních techniků – co kontrolovat a jak správně vést dokumentaci.\nNejčastější závady na jeřábech a kladkostrojích – praktické zkušenosti z revizní praxe.\nModerní technické prostředky zvyšující bezpečnost a spolehlivost provozu zdvihadel.\nAnalýza reálných havárií a poučení pro praxi.\nTechnická normalizace\nDiskuse k otázkám účastníků – prostor pro sdílení zkušeností.\n\n  \nPro koho je seminář určen:\n  \n\nrevizní techniky zdvihacích zařízení\,\npracovníky BOZP\,\nvýrobní a údržbářské techniky\,\nprojektanty a konstruktéry zdvihadel\,\nvšechny\, kteří odpovídají za bezpečný provoz jeřábů a zdvihacích prostředků.\n\n  \nProč se zúčastnit?\n  \n\nZískáte přehled o nejnovější legislativě a normách.\nUvidíte praktické ukázky z revizní a inspekční činnosti.\nOdnesete si doporučení\, jak předejít závadám a sankcím při kontrolách.\nBudete mít možnost konzultace přímo s odborníky z oboru.
URL:https://www.vakinfo.cz/event/zdvihadla-2025/
LOCATION:Hotel Energie ****\, Plzeňská 276/298\, Praha 5 Stodůlky\, 155 00
CATEGORIES:Kurz
ORGANIZER;CN="Medim%2C%20spol.%20s%20r.o.":MAILTO:konference@medim.cz
END:VEVENT
END:VCALENDAR